BEGIN:VCALENDAR
VERSION:2.0
PRODID:-//The Northern Miner - ECPv6.5.0.1//NONSGML v1.0//EN
CALSCALE:GREGORIAN
METHOD:PUBLISH
X-ORIGINAL-URL:https://secure.northernminer.com
X-WR-CALDESC:Events for The Northern Miner
REFRESH-INTERVAL;VALUE=DURATION:PT1H
X-Robots-Tag:noindex
X-PUBLISHED-TTL:PT1H
BEGIN:VTIMEZONE
TZID:America/Toronto
BEGIN:DAYLIGHT
TZOFFSETFROM:-0500
TZOFFSETTO:-0400
TZNAME:EDT
DTSTART:20230312T070000
END:DAYLIGHT
BEGIN:STANDARD
TZOFFSETFROM:-0400
TZOFFSETTO:-0500
TZNAME:EST
DTSTART:20231105T060000
END:STANDARD
END:VTIMEZONE
BEGIN:VEVENT
DTSTART;VALUE=DATE:20231106
DTEND;VALUE=DATE:20231108
DTSTAMP:20260422T122159
CREATED:20230516T200136Z
LAST-MODIFIED:20230720T155554Z
UID:1003855153-1699228800-1699401599@secure.northernminer.com
SUMMARY:2023 Central Canada Mineral Exploration Convention - Winnipeg
DESCRIPTION:The fourth annual Central Canada Mineral Exploration Convention (CCMEC) brings together stakeholders in the mineral exploration and mining industry in central Canada including investment firms\, exploration and mining companies\, Indigenous groups\, government officials\, prospectors\, ESG organizations\, suppliers\, and academic institutions.
URL:https://secure.northernminer.com/event/2023-central-canada-mineral-exploration-convention/
LOCATION:Victoria Inn Hotel\, Winnipeg\, Manitoba\, Canada
CATEGORIES:Convention
ATTACH;FMTTYPE=image/jpeg:https://secure.northernminer.com/wp-content/uploads/2023/05/1541527211120.jpg
END:VEVENT
BEGIN:VEVENT
DTSTART;VALUE=DATE:20231113
DTEND;VALUE=DATE:20231116
DTSTAMP:20260422T122159
CREATED:20230516T195729Z
LAST-MODIFIED:20230720T161958Z
UID:1003855150-1699833600-1700092799@secure.northernminer.com
SUMMARY:2023 Precious Metals Summit Zurich
DESCRIPTION:This invitation-only event will host institutional investors\, sell-side representatives and corporate executives from senior precious metals companies. \nThis year’s summit adds a half-day dedicated to critical minerals.
URL:https://secure.northernminer.com/event/2023-precious-metals-summit-zurich/
LOCATION:Park Hyatt Zurich\, Zurich\, Switzerland
CATEGORIES:Conference,Forum,Information session,Networking event,Panel Discussion
ATTACH;FMTTYPE=image/jpeg:https://secure.northernminer.com/wp-content/uploads/2023/05/download-5.jpg
END:VEVENT
END:VCALENDAR