BEGIN:VCALENDAR
VERSION:2.0
PRODID:-//The Northern Miner - ECPv6.5.0.1//NONSGML v1.0//EN
CALSCALE:GREGORIAN
METHOD:PUBLISH
X-WR-CALNAME:The Northern Miner
X-ORIGINAL-URL:https://secure.northernminer.com
X-WR-CALDESC:Events for The Northern Miner
REFRESH-INTERVAL;VALUE=DURATION:PT1H
X-Robots-Tag:noindex
X-PUBLISHED-TTL:PT1H
BEGIN:VTIMEZONE
TZID:America/Toronto
BEGIN:DAYLIGHT
TZOFFSETFROM:-0500
TZOFFSETTO:-0400
TZNAME:EDT
DTSTART:20260308T070000
END:DAYLIGHT
BEGIN:STANDARD
TZOFFSETFROM:-0400
TZOFFSETTO:-0500
TZNAME:EST
DTSTART:20261101T060000
END:STANDARD
END:VTIMEZONE
BEGIN:VEVENT
DTSTART;TZID=America/Toronto:20260907T080000
DTEND;TZID=America/Toronto:20260911T170000
DTSTAMP:20260422T232521
CREATED:20260421T200151Z
LAST-MODIFIED:20260421T200151Z
UID:1003890233-1788768000-1789146000@secure.northernminer.com
SUMMARY:Electra Mining Africa 2026 - Johannesburg\, South Africa
DESCRIPTION:South Africa’s leading mining exhibition event comes to Johannesburg in September. Every two years the event brings together mining companies\, industry suppliers\, contractors and thousands of professionals from across the continent. Visitors come to explore new technologies\, compare equipment\, meet new suppliers and discover solutions that drive safer\, smarter and more efficient mining operations.
URL:https://secure.northernminer.com/event/electra-mining-africa-2026-johannesburg-south-africa/
LOCATION:Johannesburg Expo Centre\, Nasrec\, Johannesburg\, South Africa
CATEGORIES:Convention,Exhibition,Trade Show
ATTACH;FMTTYPE=image/png:https://secure.northernminer.com/wp-content/uploads/2026/04/6e5g278p.png
END:VEVENT
END:VCALENDAR