BEGIN:VCALENDAR
VERSION:2.0
PRODID:-//The Northern Miner - ECPv6.5.0.1//NONSGML v1.0//EN
CALSCALE:GREGORIAN
METHOD:PUBLISH
X-ORIGINAL-URL:https://secure.northernminer.com
X-WR-CALDESC:Events for The Northern Miner
REFRESH-INTERVAL;VALUE=DURATION:PT1H
X-Robots-Tag:noindex
X-PUBLISHED-TTL:PT1H
BEGIN:VTIMEZONE
TZID:America/Toronto
BEGIN:DAYLIGHT
TZOFFSETFROM:-0500
TZOFFSETTO:-0400
TZNAME:EDT
DTSTART:20240310T070000
END:DAYLIGHT
BEGIN:STANDARD
TZOFFSETFROM:-0400
TZOFFSETTO:-0500
TZNAME:EST
DTSTART:20241103T060000
END:STANDARD
END:VTIMEZONE
BEGIN:VEVENT
DTSTART;TZID=America/Toronto:20241201T080000
DTEND;TZID=America/Toronto:20241202T170000
DTSTAMP:20260420T114848
CREATED:20240503T210104Z
LAST-MODIFIED:20240503T211018Z
UID:1003867011-1733040000-1733158800@secure.northernminer.com
SUMMARY:International Metals Symposium - London\, UK
DESCRIPTION:The Northern Miner returns to London in December for the newest edition of its International Metals Symposium\, featuring top mining industry leaders who will discuss ESG\, energy trends\, digital transformation and many other important topics. \n 
URL:https://secure.northernminer.com/event/international-metals-symposium-london-u-k/
LOCATION:etc venues\, London\, United Kingdom
CATEGORIES:Conference,Networking event,Symposium
ATTACH;FMTTYPE=image/png:https://secure.northernminer.com/wp-content/uploads/2024/05/Screenshot-1447.png
END:VEVENT
END:VCALENDAR