BEGIN:VCALENDAR
VERSION:2.0
PRODID:-//The Northern Miner - ECPv6.5.0.1//NONSGML v1.0//EN
CALSCALE:GREGORIAN
METHOD:PUBLISH
X-WR-CALNAME:The Northern Miner
X-ORIGINAL-URL:https://secure.northernminer.com
X-WR-CALDESC:Events for The Northern Miner
REFRESH-INTERVAL;VALUE=DURATION:PT1H
X-Robots-Tag:noindex
X-PUBLISHED-TTL:PT1H
BEGIN:VTIMEZONE
TZID:America/Toronto
BEGIN:DAYLIGHT
TZOFFSETFROM:-0500
TZOFFSETTO:-0400
TZNAME:EDT
DTSTART:20170312T070000
END:DAYLIGHT
BEGIN:STANDARD
TZOFFSETFROM:-0400
TZOFFSETTO:-0500
TZNAME:EST
DTSTART:20171105T060000
END:STANDARD
BEGIN:DAYLIGHT
TZOFFSETFROM:-0500
TZOFFSETTO:-0400
TZNAME:EDT
DTSTART:20180311T070000
END:DAYLIGHT
BEGIN:STANDARD
TZOFFSETFROM:-0400
TZOFFSETTO:-0500
TZNAME:EST
DTSTART:20181104T060000
END:STANDARD
TZID:America/Los_Angeles
BEGIN:DAYLIGHT
TZOFFSETFROM:-0800
TZOFFSETTO:-0700
TZNAME:PDT
DTSTART:20180311T100000
END:DAYLIGHT
BEGIN:STANDARD
TZOFFSETFROM:-0700
TZOFFSETTO:-0800
TZNAME:PST
DTSTART:20181104T090000
END:STANDARD
TZID:America/Vancouver
BEGIN:DAYLIGHT
TZOFFSETFROM:-0800
TZOFFSETTO:-0700
TZNAME:PDT
DTSTART:20170312T100000
END:DAYLIGHT
BEGIN:STANDARD
TZOFFSETFROM:-0700
TZOFFSETTO:-0800
TZNAME:PST
DTSTART:20171105T090000
END:STANDARD
END:VTIMEZONE
BEGIN:VEVENT
DTSTART;TZID=America/Toronto:20181126T090000
DTEND;TZID=America/Toronto:20181126T170000
DTSTAMP:20260424T052702
CREATED:20180912T172123Z
LAST-MODIFIED:20180912T172123Z
UID:1003798993-1543222800-1543251600@secure.northernminer.com
SUMMARY:12th Annual Investing in African Mining
DESCRIPTION:Now in its 12th year\, our full-day Investing in African Mining seminar with Premier Sponsor Herbert Smith Freehills LLP during Mines and Money is the premier African focussed mining event in London. The seminar is supported by the UK Association of Mining Analysts (AMA) whose members comprise a significant portion of the audience. The seminar features updates by mining companies on their African projects and presentations on current trends in African mining by expert advisors. The seminar typically features 17 presentations and an audience of 150\, 70% of who are senior financial and mining executives\, and 60% are from Europe.
URL:https://secure.northernminer.com/event/12th-annual-investing-in-african-mining/
LOCATION:The Tower hotel\, St Katharine's Way\, London\, E1W 1LD\, United Kingdom
CATEGORIES:Information session,Keynote Address,Networking event,Panel Discussion,Seminar
ORGANIZER;CN="MineAfrica Inc.":MAILTO:wayne@mineafrica.com
END:VEVENT
BEGIN:VEVENT
DTSTART;TZID=America/Toronto:20181025T181500
DTEND;TZID=America/Toronto:20181025T213000
DTSTAMP:20260424T052702
CREATED:20180912T172509Z
LAST-MODIFIED:20180912T172509Z
UID:1003798997-1540491300-1540503000@secure.northernminer.com
SUMMARY:17th Annual Indaba Evening
DESCRIPTION:Join us at the premier African business networking event on the Canadian calendar featuring a who’s who of senior business executives and government officials active\, or interested\, in Africa. Our keynote speaker for 2018 is Steve Letwin\, President and Chief Executive Officer\, IAMGOLD Corporation. The evening features a high-level networking reception with an informal wine tasting and exotic African cuisine (food stations and hand-passed selections) and an authentic African sculpture and art market. The evening will be a combination of fun\, food and excellent networking opportunities with leading business and community leaders active in Africa.  The evening is part of “Africa Accelerating” 4 events over 3 days this October 23-25\, 2018 in Toronto. Other events include:\n– 3rd Investing in Africa Today seminar – Tuesday October 23\, 2018\n– Power Africa seminar – Wednesday October 24\, 2018\n– Mining Innovation seminar – Thursday October 25\, 2018
URL:https://secure.northernminer.com/event/17th-annual-indaba-evening/
LOCATION:St. Paul’s Bloor Street\, 227 Bloor Street Street East\, Toronto\, Ontario\, M4W 1C8\, Canada
CATEGORIES:Keynote Address,Networking event,Presentation
ORGANIZER;CN="The Canada-Africa Chamber of Business":MAILTO:bruce@canadaafrica.ca
END:VEVENT
BEGIN:VEVENT
DTSTART;TZID=America/Toronto:20181025T123000
DTEND;TZID=America/Toronto:20181025T171500
DTSTAMP:20260424T052702
CREATED:20180912T172406Z
LAST-MODIFIED:20180912T172406Z
UID:1003798995-1540470600-1540487700@secure.northernminer.com
SUMMARY:Innovation in Mining
DESCRIPTION:In today’s competitive mining environment innovation is crucial. This half-day seminar with McKinsey & Company will feature presentations and panel discussions covering the different elements of innovation in mining in all jurisdictions\, how you can benefit from it\, and what it means for policy-makers.  Topics to be covered include:\n– Case for Innovation in Mining and how others are winning – McKinsey & Company Canada\n– Innovation Leaders Showcase\n– Innovation Use in Mining: underground short interval control\, advanced analytics in yield improvements in a small miner context\, digital maintenance\, blockchain and crypto-currency opportunities\n– CSR and Broader Impacts of Technology and Innovation
URL:https://secure.northernminer.com/event/innovation-in-mining/
LOCATION:McKinsey & Company\, 110 Charles Street West\, Toronto\, Ontario\, M5S 1K9\, Canada
CATEGORIES:Networking event,Panel Discussion,Presentation,Seminar
ORGANIZER;CN="The Canada-Africa Chamber of Business":MAILTO:bruce@canadaafrica.ca
END:VEVENT
BEGIN:VEVENT
DTSTART;VALUE=DATE:20180906
DTEND;VALUE=DATE:20180909
DTSTAMP:20260424T052702
CREATED:20180228T165555Z
LAST-MODIFIED:20180228T165555Z
UID:1003794348-1536192000-1536451199@secure.northernminer.com
SUMMARY:2018 MINING & EXPLORATION INTERNATIONAL CONFERENCE & EXPO
DESCRIPTION:The 2018 Mining & Exploration International Conference & Expo (MEI2018) will be held September 6\, 2018 through September 8\, 2018\, at the Las Vegas Convention Center\, Las Vegas\, Nevada. Workforce Development\, Sustainability & Community and Technology are the primary areas of emphasis for the conference. \nMINING & EXPLORATION CONFERENCE\nThe conference provides a forum for international leaders in mining\, exploration and associated industries to share their expertise and explore the latest research\, challenges and trends that will shape the future of the industry. The conference schedule includes presentations\, poster sessions and workshops. Special focus will be placed on the following topics: \nWorkforce Development\nExploring solutions to help meet the workforce needs of the private sector\, academia and government in an environment that is increasingly demanding due to staffing shortages as well as advances in technology. \nSustainability & Community\nWays the industry is meeting the needs of regulatory agencies and public via emerging technologies that enable us to reduce environmental impacts and demonstrate responsible stewardship. Sharing strategies for balancing mining and exploration with support for and engagement with the communities in which we work. \nTechnology\nA look at digital and emerging technologies that enable those in the industry to remain competitive in today’s complex environment. \nConference Director\, Madalena Maestri EdD\, says\, “We are very pleased to offer an opportunity for an international audience to address these critical topics. We’re putting together a powerhouse lineup of speakers and moderators\, who will share their expertise\, technology advancements and the latest research.” \nMINING & EXPLORATION EXPO\nWith 500 booths\, meeting rooms and suites\, the Expo provides the opportunity to view the latest technologies in mining and processing\, and meet with industry colleagues and thought leaders. All aspects of the industry will be represented\, including coal\, metal\, surface and nonmetal underground mining. \nStudent Poster Session\nWe invite students to submit abstracts on current work in the areas of: workforce development\, sustainability and technology. Session sponsors will select three students to be awarded $500 each for entries that demonstrate excellence.
URL:https://secure.northernminer.com/event/2018-mining-expo/
LOCATION:Las Vegas Convention Center\, Las Vegas\, NV\, United States
CATEGORIES:Conference,Exposition,Keynote Address,Networking event,Panel Discussion,Presentation,Trade Show
ORGANIZER;CN="MEI2018":MAILTO:info@MiningExplorationIntl.com
END:VEVENT
BEGIN:VEVENT
DTSTART;TZID=America/Toronto:20180519T080000
DTEND;TZID=America/Toronto:20180526T170000
DTSTAMP:20260424T052702
CREATED:20160901T182207Z
LAST-MODIFIED:20170324T135103Z
UID:1003776825-1526716800-1527354000@secure.northernminer.com
SUMMARY:ALTA 2018 Nickel-Cobalt-Copper\, Uranium-REE & Gold-PM Conference & Exhibition
DESCRIPTION:ALTA 2018\, organized by ALTA Metallurgical Services\, will be the 23rd year of one of the world’s premier annual metallurgical events. This annual event is a gathering of the global Nickel\, Cobalt\, Copper\, Uranium-REE and Gold-PM industries and features highly focused programs\, topical forums and presentations by key international speakers. Held over eight days\, it comprises: \nThree international conferences\n– Nickel-Cobalt-Copper\, including Hydroprocessing of Sulphides Forum & Panel\n– Uranium-REE\, including Uranium Ion Exchange Forum & Panel\n– Gold-PM\, including Refractory and Complex Gold Ores Forum & Panel \nThree short courses\n– A-Z of Copper Ore Leaching\n– SX and its Application to Copper\, Uranium & Nickel-Cobalt\n– Uranium Ore Processing \nThis conference will be an outstanding platform for exposing the latest worldwide developments in plant operations\, process technology\, new projects\, test work & scale-up\, process modelling & control systems\, application of mineralogy & geometallurgy\, R&D\, equipment\, reagents\, materials\, tailings disposal and environmental alleviation.  The event provides an excellent opportunity to network with a wide variety of key industry professionals and showcase products and services to decision-makers in the pertinent field.
URL:https://secure.northernminer.com/event/alta-2018-nickel-cobalt-copper-uranium-ree-gold-pm-conference-exhibition/
LOCATION:Pan Pacific Perth\, 207 Adelaide Terrace\, Perth\, Western Australia\, 6000\, Australia
CATEGORIES:Conference,Course,Exhibition,Networking event
ATTACH;FMTTYPE=image/jpeg:https://secure.northernminer.com/wp-content/uploads/2016/08/ALTA-2018.jpg
END:VEVENT
BEGIN:VEVENT
DTSTART;VALUE=DATE:20180424
DTEND;VALUE=DATE:20180426
DTSTAMP:20260424T052702
CREATED:20180205T213448Z
LAST-MODIFIED:20180205T213448Z
UID:1003793743-1524528000-1524700799@secure.northernminer.com
SUMMARY:Canadian Mining Symposium
DESCRIPTION:The Northern Miner organizes and hosts an annual Symposium for the British and European mining and investment communities that offers the most comprehensive view on how Canada has become\, and continues to be\, the global leader in all facets of the mining industry. This Symposium is held at Canada House in London and brings together top institutional and high net-worth investors\, as well as C-suite executives and corporate development team members from mining firms domiciled in the U.K. and Europe. This is an invite only event. If you are an investment professional based in Europe and feel that you qualify to attend\, please email us at events@northernminer.com.
URL:https://secure.northernminer.com/event/canadian-mining-symposium-2/
LOCATION:Canada House\, Trafalgar Square\, London\,  SW1Y 5BJ\, United Kingdom
CATEGORIES:Conference,Meeting,Networking event
ATTACH;FMTTYPE=image/png:https://secure.northernminer.com/wp-content/uploads/2018/02/CanadianMiningSymposium-LOGO_red.png
END:VEVENT
BEGIN:VEVENT
DTSTART;VALUE=DATE:20180320
DTEND;VALUE=DATE:20180322
DTSTAMP:20260424T052702
CREATED:20171130T152450Z
LAST-MODIFIED:20171130T152450Z
UID:1003791807-1521504000-1521676799@secure.northernminer.com
SUMMARY:121 Mining Investment Hong Kong
DESCRIPTION:121 Mining Investment Hong Kong is the perfect way for Canadian mining companies to access a whole new pool of investors in one of the worlds leading financial hubs. \nOn 20-21 March 2018\, 50  Candian and Australian mining production\, development and exploration companies will be connected with over 200 leading institutional investors\, financiers and analysts from Hong Kong\, Greater China and the wider APAC region. \nBy providing an exclusive forum built around a focused and targeted meeting programme\, 121 Mining Investment Hong Kong provides a time and resource efficient way for miners to meet new investors and for investors to appraise a range of opportunities. \nHow does it work? \n1. Register – Entry is restricted to qualified investors\, analysts and senior mining company executives keeping every meeting focused on investment and financing discussion. \n2. Pre-arrange meetings – Prior to the summit\, you receive a list of all investor/analyst participants along with information about their interests and investment appetites. You simply select the investors you would like to meet\, based on our 121 investor profiling system\, and we will help you build a personalised schedule of truly relevant 1-2-1 meetings. You can also choose to accept or decline any requests you receive from investors\, meaning your schedule will be full of meetings relevant to your goals. \n3. Attend – Events are built around two days of pre-arranged\, 30 minute 1-2-1 meetings alongside a two-day conference programme packed with investor insight panels\, analyst market updates and CEO spotlight presentations. You just have to sit back and take your meetings with interested\, qualified investors – it’s that easy.
URL:https://secure.northernminer.com/event/121-mining-investment-hong-kong/
LOCATION:Grand Hyatt Hong Kong\, 1 Harbour Road\, Wan Chai\, Hong Kong\, Hong Kong\, Hong Kong
CATEGORIES:Networking event
ATTACH;FMTTYPE=image/png:https://secure.northernminer.com/wp-content/uploads/2017/11/121-hk-logo-dates-to-side-dark.png
ORGANIZER;CN="121 Group":MAILTO:kevin.ward@weare121.com
END:VEVENT
BEGIN:VEVENT
DTSTART;VALUE=DATE:20180304
DTEND;VALUE=DATE:20180308
DTSTAMP:20260424T052702
CREATED:20170502T212029Z
LAST-MODIFIED:20170502T212029Z
UID:1003785963-1520121600-1520467199@secure.northernminer.com
SUMMARY:PDAC 2018 International Convention\, Trade Show & Investors Exchange
DESCRIPTION:Where the world’s mineral & finance industry meets \nThe Prospectors & Developers Association of Canada’s (PDAC) International Convention\, Trade Show & Investors Exchange is the world’s leading convention for people\, companies and organizations in\, or connected with\, mineral exploration and finance. In addition to meeting over 1\,000 exhibitors\, 3\,800 investors and 24\,000 attendees from 130 countries\, you can also attend technical sessions\, short courses and networking events. The four-day annual convention held in Toronto\, Canada\, has grown in size\, stature and influence since it began in 1932 and today is the event of choice for the world’s mineral and finance industries.
URL:https://secure.northernminer.com/event/pdac-2018-international-convention-trade-show-investors-exchange/
LOCATION:Ontario
CATEGORIES:Conference,Convention,Exhibition,Keynote Address,Networking event,Panel Discussion,Presentation,Seminar
END:VEVENT
BEGIN:VEVENT
DTSTART;TZID=America/Toronto:20180128T130000
DTEND;TZID=America/Toronto:20180128T210000
DTSTAMP:20260424T052702
CREATED:20180131T193723Z
LAST-MODIFIED:20180131T193723Z
UID:1003793100-1517144400-1517173200@secure.northernminer.com
SUMMARY:Awards Gala & Final Round of Presentations
DESCRIPTION:Join us for the Awards Gala and Final Round of Presentations of the 2nd Annual Goodman Gold Challenge! \nThe GGC is a mining investment competition where students must analyze the investment potential of three gold mining companies and recommend one as investment. The winning team receives the cash equivalent of 4 ounces of gold! \nFinal Round of Presentations: Sunday January 28th from 1:00PM to 4:00PM\, Laurentian University room A-226 – FREE \nAwards Gala: Sunday January 28th from 6:00PM to 9:00PM\, Vale Cavern\, Science North – $80.00 (including HST) \nThe Awards Gala will include dinner\, complimentary wine\, cash bar\, keynote speaker\, and the opportunity to meet the participants and sponsors. \nKeynote Speaker: Greg Huffman\, Managing Director | Global Head – Mining Sales\, Canaccord Genuity \nContact: goodmangoldchallenge@laurentian.ca or 705-675-1151 ext. 7222
URL:https://secure.northernminer.com/event/awards-gala-final-round-presentations/
LOCATION:Ontario
CATEGORIES:Keynote Address,Networking event
ATTACH;FMTTYPE=image/png:https://secure.northernminer.com/wp-content/uploads/2018/01/Awards-Gala-Eventbrite.png
ORGANIZER;CN="Goodman School of Mines":MAILTO:sx1_patterson@laurentian.ca
END:VEVENT
BEGIN:VEVENT
DTSTART;TZID=America/Vancouver:20171004T153000
DTEND;TZID=America/Vancouver:20171004T173000
DTSTAMP:20260424T052702
CREATED:20170919T122848Z
LAST-MODIFIED:20170919T122848Z
UID:1003789229-1507131000-1507138200@secure.northernminer.com
SUMMARY:AME Speaker Series: Junior Company Playbook
DESCRIPTION:AME Speaker Series: Junior Company Playbook – Positioning Yourself for Success \nAME – in partnership with Women in Mining BC – launches the 2017/2018 Speaker Series with “Junior Company Playbook – Positioning Yourself for Success\,” a panel discussion about how to position your company for success\, including how to turn your technical information into a clear message to investors about the potential value of your project. \nAt this session\, you will hear industry experts share what you should – and shouldn’t – do to get the attention of institutional\, retail and strategic investors\, attract investment and analyst coverage. Our panel experts will share what they have learned so you can take action immediately to strengthen your company. \nThe panel will consist of: \nMichael Gray\, moderator\, Senior Vice President & Team Head Canadian Mining Equity Research\, Commodities and Global Markets\, Macquarie Capital Markets Canada Ltd.\nZara Boldt\, CFO & Corporate Secretary\, Strongbow Exploration\, Inc.\nBart Melek\, Global Head of Commodity Strategy\, TD Securities\nRosie Moore\, Consulting Geologist and Analyst \nReception and networking will follow the discussion.
URL:https://secure.northernminer.com/event/ame-speaker-series-junior-company-playbook/
LOCATION:Hyatt Regency Hotel Vancouver\, 655 burrard street\, vancouver\, british columbia\, v6c2R7\, Canada
CATEGORIES:Networking event,Panel Discussion
ATTACH;FMTTYPE=image/png:https://secure.northernminer.com/wp-content/uploads/2017/09/AME-Lockup_Hor_3C_Blue_RGB.png
END:VEVENT
BEGIN:VEVENT
DTSTART;TZID=America/Toronto:20170715T100000
DTEND;TZID=America/Toronto:20170716T160000
DTSTAMP:20260424T052703
CREATED:20170324T135711Z
LAST-MODIFIED:20170324T135711Z
UID:1003784652-1500112800-1500220800@secure.northernminer.com
SUMMARY:WMMI Anniversary Weekend
DESCRIPTION:The Western Museum of Mining & Industry invites you to celebrate the museum’s 35th anniversary!  \nThis event commemorates the 1982 opening of the museum’s North Gate Blvd. exhibit building. Located on 27 acres at the foothills of the Rocky Mountains\, the Western Museum of Mining & Industry offers a contrasting combination of beautiful Colorado landscape and a world-class technical history collection centering on America’s mining industry. Come to “The Museum That Works” and see the variety of educational programming comes together! Among the activities is our 19th and 20th century steam engines rumbling to life\, the artistry of blacksmithing in our blacksmith shop\, the operation of the museum’s unique ten-stamp ore mill\, and watch the Gold Canyon Gunfighters provide a wild west show! The weekend will also feature vendors\, food trucks\, and fun for all ages. For more information please visit www.wmmi.org
URL:https://secure.northernminer.com/event/wmmi-anniversary-weekend/
LOCATION:Western Museum of Mining & Industry\, Colorado Springs\, CO\, 80921\, United States
CATEGORIES:Networking event
END:VEVENT
BEGIN:VEVENT
DTSTART;TZID=America/Toronto:20170523T160000
DTEND;TZID=America/Toronto:20170523T170000
DTSTAMP:20260424T052703
CREATED:20170524T012234Z
LAST-MODIFIED:20170524T012234Z
UID:1003786302-1495555200-1495558800@secure.northernminer.com
SUMMARY:TGDG Hosts: Geo Games for Grown Ups
DESCRIPTION:This is your chance to play individual and team games that will test your earthly knowledge and teamwork skills. The games will be provided by the Royal Ontario Museum\, Mining Matters and the Young Toronto Mineralogists Club. You can come with your team or we’ll organize teams when you arrive. There will be exciting prizes! \nFREE for all! This is the last meeting of the TGDG Season and we welcome all geoscientists\, miners and wanna-be geologists to a fun networking event. \nCome out to learn more about Mining Matters and the Young Mineralogists Club\, then find out if you’re smarter than a fifth-grader!
URL:https://secure.northernminer.com/event/tgdg-hosts-geo-games-grown-ups/
LOCATION:Ontario Bar Association\, 20 Toronto St.\, Toronto\, Ontario\, M5C 2B8\, Canada
CATEGORIES:Networking event
ORGANIZER;CN="Toronto Geological Discussion Group":MAILTO:contact@tgdg.net
END:VEVENT
BEGIN:VEVENT
DTSTART;TZID=America/Toronto:20170520T080000
DTEND;TZID=America/Toronto:20170527T180000
DTSTAMP:20260424T052703
CREATED:20160901T181937Z
LAST-MODIFIED:20160901T181937Z
UID:1003776822-1495267200-1495908000@secure.northernminer.com
SUMMARY:ALTA 2017 Nickel-Cobalt-Copper\, Uranium-REE & Gold-PM Conference & Exhibition
DESCRIPTION:ALTA 2017\, organized by ALTA Metallurgical Services\, will be the 22nd year of one of the world’s premier annual metallurgical events. This annual event is a gathering of the global Nickel\, Cobalt\, Copper\, Uranium-REE and Gold-PM industries and features highly focused programs\, topical forums and presentations by key international speakers. Held over eight days\, it comprises: \nThree international conferences\n– Nickel-Cobalt-Copper\, including Pressure Acid Leaching Forum & Panel\n– Uranium-REE\, including Lithium Processing Forum & Panel\n– Gold-PM\, including Cyanide Alternatives/Alleviation Forum & Panel \nThree short courses\n– Treatment of Nickel-Cobalt Laterites\n– Copper SX/EW Basic Principles and Detailed Plant Design\n– Heap Leaching & its Application to Copper\, Gold\, Uranium & Nickel Ores \nThis conference will be an outstanding platform for exposing the latest worldwide developments in plant operations\, process technology\, new projects\, test work & scale-up\, process modelling & control systems\, application of mineralogy & geometallurgy\, R&D\, equipment\, reagents\, materials\, tailings disposal and environmental alleviation.  The event provides an excellent opportunity to network with a wide variety of key industry professionals and showcase products and services to decision-makers in the pertinent field.
URL:https://secure.northernminer.com/event/alta-2017-nickel-cobalt-copper-uranium-ree-gold-pm-conference-exhibition/
LOCATION:Pan Pacific Perth\, 207 Adelaide Terrace\, Perth\, Western Australia\, 6000\, Australia
CATEGORIES:Conference,Course,Exhibition,Networking event
ATTACH;FMTTYPE=image/jpeg:https://secure.northernminer.com/wp-content/uploads/2016/08/ALTA-2017.jpg
END:VEVENT
BEGIN:VEVENT
DTSTART;TZID=America/Toronto:20170413T180000
DTEND;TZID=America/Toronto:20170413T203000
DTSTAMP:20260424T052703
CREATED:20170315T191505Z
LAST-MODIFIED:20170315T191505Z
UID:1003784407-1492106400-1492115400@secure.northernminer.com
SUMMARY:Exhibit Lecture by Mindy S. Vogel
DESCRIPTION:On April 13\, Mindy S. Vogel\, a Forest Service geologist\, will present a lecture entitled “Rock\, Paper\, Forest Service: A Summary of Mining and Permitting on Forest Service Lands.” This lecture is in pairing with the Western Museum of Mining & Industry’s new exhibit\, “Minerals You Use Every Day from the National Forests.” Light refreshments will be offered. The museum requests that those interested in attending please contact the museum to reserve a spot. Please call 719-488-0880 or respond by e-mail at rsvp@wmmi.org. \nThis exhibit consists of an interactive component from the National Museum of Forest Service History and a selection of minerals from WMMI’s collection. Whether we realize it or not\, modern civilization is heavily dependent on minerals for everything from computers and electricity to toothpaste and makeup. This exhibit highlights this importance and demonstrates how America’s national forests help supply the country’s mineral needs. This exhibit will be open through June 3.
URL:https://secure.northernminer.com/event/exhibit-lecture-mindy-s-vogel/
LOCATION:Western Museum of Mining & Industry\, Colorado Springs\, CO\, 80921\, United States
CATEGORIES:Exhibition,Information session,Keynote Address,Networking event,Presentation
END:VEVENT
BEGIN:VEVENT
DTSTART;TZID=America/Toronto:20170410T180000
DTEND;TZID=America/Toronto:20170410T203000
DTSTAMP:20260424T052703
CREATED:20170315T191007Z
LAST-MODIFIED:20170315T191007Z
UID:1003784406-1491847200-1491856200@secure.northernminer.com
SUMMARY:“A Tale of Two Husteds” lecture by Jack Anthony
DESCRIPTION:The Palmer Lake Historical Society and the Western Museum of Mining & Industry are pleased to announce the second presentation of “A Tale of Two Husteds” by Jack Anthony!\nAbout six miles south of Palmer Lake\, East Husted and West Husted sprang up as railroad “tank towns” for the Denver & Rio Grande and the Atchison Topeka & Santa Fe railroads. The two Husted depots midway between Colorado Springs and Palmer Lake became a place to pick up passengers and shipments of agricultural products. Both were thriving communities until the early 1920s. Then\, development of the United States Air Force Academy in the mid-1950s caused the remaining buildings to be either moved or demolished. Only the Reynolds Ranch House remains\, still in its original location east of Interstate 25 on the property of the Western Museum of Mining & Industry on Colorado Springs’ north side.\nJack Anthony is a graduate of the Air Force Academy. For almost 40 years\, he has served in various military\, intelligence\, and NASA roles as an engineer\, educator\, leader\, and operator. Jack successfully spear-headed the effort to have the Palmer Lake Star included on the State Register of Historic Properties. His presentation includes both sides and a short video.
URL:https://secure.northernminer.com/event/tale-two-husteds-lecture-jack-anthony/
LOCATION:Western Museum of Mining & Industry\, Colorado Springs\, CO\, 80921\, United States
CATEGORIES:Exhibition,Information session,Keynote Address,Networking event,Presentation
END:VEVENT
BEGIN:VEVENT
DTSTART;TZID=America/Toronto:20170303T170000
DTEND;TZID=America/Toronto:20170305T193000
DTSTAMP:20260424T052703
CREATED:20170202T162059Z
LAST-MODIFIED:20170209T040813Z
UID:1003783055-1488560400-1488742200@secure.northernminer.com
SUMMARY:Unearthed Toronto 2017
DESCRIPTION:Unearthed Toronto is a 54-hour open innovation hackathon event featuring real data and challenges from the global mining industry. Talented local entrepreneurs\, innovators and startups will select one of several challenges on offer and come together to build prototype solutions to challenges facing today’s mining industry. Top solutions will be awarded significant prizes and future development opportunities. All teams own 100% of the IP they generate at #UnearthedToronto \nFriday 3rd March – Sunday 5th March 2017\nBitmaker
URL:https://secure.northernminer.com/event/unearthed-toronto-2017/
LOCATION:Bitmaker\, 220 King St W\, Suite 200 \, Toronto\, Ontario\, M5H 1K4\, Canada
CATEGORIES:Convention,Course,Information session,Networking event
ORGANIZER;CN="Unearthed Solutions":MAILTO:info@unearthed.solutions
END:VEVENT
END:VCALENDAR