BEGIN:VCALENDAR
VERSION:2.0
PRODID:-//The Northern Miner - ECPv6.5.0.1//NONSGML v1.0//EN
CALSCALE:GREGORIAN
METHOD:PUBLISH
X-WR-CALNAME:The Northern Miner
X-ORIGINAL-URL:https://secure.northernminer.com
X-WR-CALDESC:Events for The Northern Miner
REFRESH-INTERVAL;VALUE=DURATION:PT1H
X-Robots-Tag:noindex
X-PUBLISHED-TTL:PT1H
BEGIN:VTIMEZONE
TZID:America/Toronto
BEGIN:DAYLIGHT
TZOFFSETFROM:-0500
TZOFFSETTO:-0400
TZNAME:EDT
DTSTART:20250309T070000
END:DAYLIGHT
BEGIN:STANDARD
TZOFFSETFROM:-0400
TZOFFSETTO:-0500
TZNAME:EST
DTSTART:20251102T060000
END:STANDARD
END:VTIMEZONE
BEGIN:VEVENT
DTSTART;TZID=America/Toronto:20250924T080000
DTEND;TZID=America/Toronto:20250925T170000
DTSTAMP:20260420T202904
CREATED:20250709T165423Z
LAST-MODIFIED:20250709T165423Z
UID:1003880298-1758700800-1758819600@secure.northernminer.com
SUMMARY:121 Mining Investment - Hong Kong
DESCRIPTION:121 Mining Investment comes to Hong Kong for its September edition\, with two days of 1-2-1 meetings running alongside an agenda packed with the expert insight from leading institutional investors and analysts. \nThe event brings together the global junior mining ecosystem and provides unrivalled opportunity for investors and miners to connect efficiently and effectively.
URL:https://secure.northernminer.com/event/121-mining-investment-hong-kong-2/
LOCATION:Island Shangri-la Hong Kong\, Hong Kong\, Hong Kong
CATEGORIES:Meeting,Networking event
ATTACH;FMTTYPE=image/png:https://secure.northernminer.com/wp-content/uploads/2025/07/hk2025septrimmed.png
END:VEVENT
END:VCALENDAR