BEGIN:VCALENDAR
VERSION:2.0
PRODID:-//The Northern Miner - ECPv6.5.0.1//NONSGML v1.0//EN
CALSCALE:GREGORIAN
METHOD:PUBLISH
X-ORIGINAL-URL:https://secure.northernminer.com
X-WR-CALDESC:Events for The Northern Miner
REFRESH-INTERVAL;VALUE=DURATION:PT1H
X-Robots-Tag:noindex
X-PUBLISHED-TTL:PT1H
BEGIN:VTIMEZONE
TZID:America/Toronto
BEGIN:DAYLIGHT
TZOFFSETFROM:-0500
TZOFFSETTO:-0400
TZNAME:EDT
DTSTART:20250309T070000
END:DAYLIGHT
BEGIN:STANDARD
TZOFFSETFROM:-0400
TZOFFSETTO:-0500
TZNAME:EST
DTSTART:20251102T060000
END:STANDARD
END:VTIMEZONE
BEGIN:VEVENT
DTSTART;TZID=America/Toronto:20251008T080000
DTEND;TZID=America/Toronto:20251009T170000
DTSTAMP:20260420T164622
CREATED:20250930T190442Z
LAST-MODIFIED:20250930T190442Z
UID:1003883136-1759910400-1760029200@secure.northernminer.com
SUMMARY:Nordic Funds & Mines 2025 - Stockholm
DESCRIPTION:Scandinavia’s top annual global mining investment event returns in October to host the Nordic investor capital community as it focuses on global public companies. \nWith an unmatched network of Scandinavian and international investors\, this invite-only event is an exclusive platform where institutional investors\, HNWI\, and family offices meet exciting explorers to discuss their next big mining investment\, tech solution\, and sustainability play. \nThe Nordic region continues to be a beacon of innovation and sustainability which is a blueprint of how Nordic investors are allocating their capital.
URL:https://secure.northernminer.com/event/nordic-funds-mines-2025-stockholm/
LOCATION:Six Hotel\, Stockholm\, Sweden
CATEGORIES:Conference,Forum,Information session,Keynote Address,Meeting,Networking event
ATTACH;FMTTYPE=image/png:https://secure.northernminer.com/wp-content/uploads/2025/09/7w8sjtib.png
END:VEVENT
BEGIN:VEVENT
DTSTART;TZID=America/Toronto:20251008T170000
DTEND;TZID=America/Toronto:20251008T200000
DTSTAMP:20260420T164622
CREATED:20250930T132149Z
LAST-MODIFIED:20251001T112253Z
UID:1003883100-1759942800-1759953600@secure.northernminer.com
SUMMARY:The Afterwork Social by Queer People in Mining - Vancouver
DESCRIPTION:Queer People in Mining is hosting their inaugural Afterwork Social. Come meet other professionals and students at a relaxed networking event that welcomes all people and allies of the queer community. Entry is free and includes light refreshments.
URL:https://secure.northernminer.com/event/the-afterwork-social-by-queer-people-in-mining-vancouver/
LOCATION:R&B Brewing\, 54 E 4th Ave\, Vancouver\, British Columbia\, Canada
CATEGORIES:Meeting
ATTACH;FMTTYPE=image/jpeg:https://secure.northernminer.com/wp-content/uploads/2025/09/1748913288511.jpg
END:VEVENT
BEGIN:VEVENT
DTSTART;TZID=America/Toronto:20251010T080000
DTEND;TZID=America/Toronto:20251017T170000
DTSTAMP:20260420T164622
CREATED:20251002T201711Z
LAST-MODIFIED:20251002T201711Z
UID:1003883227-1760083200-1760720400@secure.northernminer.com
SUMMARY:LME Metals Week 2025 - London
DESCRIPTION:LME Metals Week returns to London in October for six days of several seminars\, networking events and panel discussions on issues facing the industry including the battery supply chain\, mining\, trading\, market trends\, sustainability and more. \nEvents are held in various locations in central London. Check the main LME Week website for the locations of each one.
URL:https://secure.northernminer.com/event/lme-metals-week-2025-london/
LOCATION:QEII Centre\, London\, United Kingdom
CATEGORIES:Conference,Forum,Information session,Meeting,Networking event,Panel Discussion
ATTACH;FMTTYPE=image/png:https://secure.northernminer.com/wp-content/uploads/2025/10/LMEweek.png
END:VEVENT
END:VCALENDAR