BEGIN:VCALENDAR
VERSION:2.0
PRODID:-//The Northern Miner - ECPv6.5.0.1//NONSGML v1.0//EN
CALSCALE:GREGORIAN
METHOD:PUBLISH
X-WR-CALNAME:The Northern Miner
X-ORIGINAL-URL:https://secure.northernminer.com
X-WR-CALDESC:Events for The Northern Miner
REFRESH-INTERVAL;VALUE=DURATION:PT1H
X-Robots-Tag:noindex
X-PUBLISHED-TTL:PT1H
BEGIN:VTIMEZONE
TZID:America/Toronto
BEGIN:DAYLIGHT
TZOFFSETFROM:-0500
TZOFFSETTO:-0400
TZNAME:EDT
DTSTART:20250309T070000
END:DAYLIGHT
BEGIN:STANDARD
TZOFFSETFROM:-0400
TZOFFSETTO:-0500
TZNAME:EST
DTSTART:20251102T060000
END:STANDARD
END:VTIMEZONE
BEGIN:VEVENT
DTSTART;TZID=America/Toronto:20250903T080000
DTEND;TZID=America/Toronto:20250905T170000
DTSTAMP:20260420T183734
CREATED:20250814T212052Z
LAST-MODIFIED:20250814T212052Z
UID:1003881564-1756886400-1757091600@secure.northernminer.com
SUMMARY:Nevada Mining Association Convention - Lake Tahoe\, Nev.
DESCRIPTION:The 2025 Nevada Mining Association Convention comes to Lake Tahoe this year under the theme “Nevada Mining: Our Story\, The Future.” The event will feature three days of networking opportunities and presentations. \n 
URL:https://secure.northernminer.com/event/nevada-mining-association-convention-lake-tahoe-nev/
LOCATION:Bally’s Lake Tahoe\, Lake Tahoe\, NV\, United States
CATEGORIES:Convention,Information session,Meeting,Networking event,Presentation
ATTACH;FMTTYPE=image/png:https://secure.northernminer.com/wp-content/uploads/2025/08/yigv3i84.png
END:VEVENT
BEGIN:VEVENT
DTSTART;TZID=America/Toronto:20250917T080000
DTEND;TZID=America/Toronto:20250919T170000
DTSTAMP:20260420T183734
CREATED:20250312T160417Z
LAST-MODIFIED:20250312T160417Z
UID:1003876558-1758096000-1758301200@secure.northernminer.com
SUMMARY:30th Central Asian International Mining Exploration Exhibition - Astana\, Kazakhstan
DESCRIPTION:The 30th annual Central Asian International Exhibition “Mining Exploration & Mining Equipment” returns this year to Astana. The event showcases the achievements of Kazakhstani and foreign manufacturers of equipment\, services\, and developments in mining. Hundreds of participating companies from across the mining and metallurgy chain and thousands of visitors are expected to attend this year’s exhibition.
URL:https://secure.northernminer.com/event/30th-central-asian-international-mining-exploration-exhibition-astana-kazakhstan/
LOCATION:Atakent International Exhibition Centre\, Astana\, Kazakhstan
CATEGORIES:Exhibition,Information session,Meeting,Networking event,Presentation,Trade Show
ATTACH;FMTTYPE=image/jpeg:https://secure.northernminer.com/wp-content/uploads/2025/03/mining_metals_central_asia_logo_3998.jpg
END:VEVENT
BEGIN:VEVENT
DTSTART;TZID=America/Toronto:20250924T080000
DTEND;TZID=America/Toronto:20250925T170000
DTSTAMP:20260420T183734
CREATED:20250709T165423Z
LAST-MODIFIED:20250709T165423Z
UID:1003880298-1758700800-1758819600@secure.northernminer.com
SUMMARY:121 Mining Investment - Hong Kong
DESCRIPTION:121 Mining Investment comes to Hong Kong for its September edition\, with two days of 1-2-1 meetings running alongside an agenda packed with the expert insight from leading institutional investors and analysts. \nThe event brings together the global junior mining ecosystem and provides unrivalled opportunity for investors and miners to connect efficiently and effectively.
URL:https://secure.northernminer.com/event/121-mining-investment-hong-kong-2/
LOCATION:Island Shangri-la Hong Kong\, Hong Kong\, Hong Kong
CATEGORIES:Meeting,Networking event
ATTACH;FMTTYPE=image/png:https://secure.northernminer.com/wp-content/uploads/2025/07/hk2025septrimmed.png
END:VEVENT
BEGIN:VEVENT
DTSTART;TZID=America/Toronto:20250925T080000
DTEND;TZID=America/Toronto:20250926T170000
DTSTAMP:20260420T183734
CREATED:20250709T162855Z
LAST-MODIFIED:20250709T162855Z
UID:1003880287-1758787200-1758906000@secure.northernminer.com
SUMMARY:MiningTech South America Conference and Exhibition – São Paulo\, Brazil
DESCRIPTION:MiningTech South America Conference & Expo is to host more than 200 senior level executives from international organizations\, governments and stakeholders from more than 10 countries for two days of partnering\, knowledge sharing\, networking and business matching. \nThe conference will include an exhibition floor and a 1-2-1 meeting tool for new partnerships and opportunities.
URL:https://secure.northernminer.com/event/miningtech-south-america-conference-and-exhibition-sao-paulo-brazil/
LOCATION:Hilton Sao Paulo Morumbi\, Sao Paulo\, Brazil
CATEGORIES:Conference,Convention,Exhibition,Meeting
ATTACH;FMTTYPE=image/png:https://secure.northernminer.com/wp-content/uploads/2025/07/MT-South-America-Logo-Exhibition.png
END:VEVENT
END:VCALENDAR