BEGIN:VCALENDAR
VERSION:2.0
PRODID:-//The Northern Miner - ECPv6.5.0.1//NONSGML v1.0//EN
CALSCALE:GREGORIAN
METHOD:PUBLISH
X-WR-CALNAME:The Northern Miner
X-ORIGINAL-URL:https://secure.northernminer.com
X-WR-CALDESC:Events for The Northern Miner
REFRESH-INTERVAL;VALUE=DURATION:PT1H
X-Robots-Tag:noindex
X-PUBLISHED-TTL:PT1H
BEGIN:VTIMEZONE
TZID:America/Toronto
BEGIN:DAYLIGHT
TZOFFSETFROM:-0500
TZOFFSETTO:-0400
TZNAME:EDT
DTSTART:20250309T070000
END:DAYLIGHT
BEGIN:STANDARD
TZOFFSETFROM:-0400
TZOFFSETTO:-0500
TZNAME:EST
DTSTART:20251102T060000
END:STANDARD
END:VTIMEZONE
BEGIN:VEVENT
DTSTART;TZID=America/Toronto:20251117T080000
DTEND;TZID=America/Toronto:20251118T170000
DTSTAMP:20260420T220951
CREATED:20250808T164721Z
LAST-MODIFIED:20250808T164721Z
UID:1003881352-1763366400-1763485200@secure.northernminer.com
SUMMARY:The Mining Show – Dubai
DESCRIPTION:The Mining Show returns for its 17th edition\, exploring the developments and changes in mining across the Middle East\, Africa and South Asian region.Expect more than 150 speakers and 5\,000 attendees at the event\, designed to encourage knowledge exchange\, project development\, and showcase the latest equipment and technology.
URL:https://secure.northernminer.com/event/the-mining-show-dubai/
LOCATION:Za’abeel Halls\, Dubai World Trade Centre\, Dubai\, United Arab Emirates
CATEGORIES:Conference,Exhibition,Keynote Address,Networking event
ATTACH;FMTTYPE=image/png:https://secure.northernminer.com/wp-content/uploads/2025/08/Screenshot-221.png
END:VEVENT
END:VCALENDAR