BEGIN:VCALENDAR
VERSION:2.0
PRODID:-//The Northern Miner - ECPv6.5.0.1//NONSGML v1.0//EN
CALSCALE:GREGORIAN
METHOD:PUBLISH
X-WR-CALNAME:The Northern Miner
X-ORIGINAL-URL:https://secure.northernminer.com
X-WR-CALDESC:Events for The Northern Miner
REFRESH-INTERVAL;VALUE=DURATION:PT1H
X-Robots-Tag:noindex
X-PUBLISHED-TTL:PT1H
BEGIN:VTIMEZONE
TZID:America/Toronto
BEGIN:DAYLIGHT
TZOFFSETFROM:-0500
TZOFFSETTO:-0400
TZNAME:EDT
DTSTART:20250309T070000
END:DAYLIGHT
BEGIN:STANDARD
TZOFFSETFROM:-0400
TZOFFSETTO:-0500
TZNAME:EST
DTSTART:20251102T060000
END:STANDARD
END:VTIMEZONE
BEGIN:VEVENT
DTSTART;TZID=America/Toronto:20250914T080000
DTEND;TZID=America/Toronto:20250917T170000
DTSTAMP:20260421T020041
CREATED:20250507T195027Z
LAST-MODIFIED:20250507T195027Z
UID:1003878392-1757836800-1758128400@secure.northernminer.com
SUMMARY:Mining Forum Americas - Colorado Springs\, Colo.
DESCRIPTION:Mining Forum Americas is the world’s oldest and largest gathering of precious commodity equities matched with their investors. Five keynote addresses are planned for this year’s event and more than 120 companies are expected to make presentations.
URL:https://secure.northernminer.com/event/mining-forum-americas-colorado-springs-colo/
LOCATION:Broadmoor Hotel & Resort\, Colorado Springs\, CO\, United States
CATEGORIES:Conference,Keynote Address,Presentation
ATTACH;FMTTYPE=image/png:https://secure.northernminer.com/wp-content/uploads/2025/05/Screenshot-182.png
END:VEVENT
BEGIN:VEVENT
DTSTART;TZID=America/Toronto:20250917T080000
DTEND;TZID=America/Toronto:20250918T170000
DTSTAMP:20260421T020041
CREATED:20250430T172919Z
LAST-MODIFIED:20250430T172919Z
UID:1003878131-1758096000-1758214800@secure.northernminer.com
SUMMARY:Critical Minerals Japan Conference and Exhibition - Tokyo
DESCRIPTION:Japan’s largest international critical minerals\, commodities\, investment and low carbon technologies exhibition comes to Tokyo in September for two days of discussions and networking opportunities exploring national security\, commodities forecasts and demand\, mining investment trends and financing models. Organizers expect more than 400 senior level executives from international organizations to attend\, as well as government representatives and stakeholders from more than 20 countries for two days of partnering\, networking and business matching.
URL:https://secure.northernminer.com/event/critical-minerals-japan-conference-and-exhibition-tokyo/
LOCATION:Akasaka Intercity Conference Center\, Tokyo\, Japan
CATEGORIES:Conference,Convention,Information session,Keynote Address,Networking event
ATTACH;FMTTYPE=image/png:https://secure.northernminer.com/wp-content/uploads/2025/04/Screenshot-169.png
END:VEVENT
BEGIN:VEVENT
DTSTART;TZID=America/Toronto:20250923T080000
DTEND;TZID=America/Toronto:20250924T170000
DTSTAMP:20260421T020041
CREATED:20250808T154802Z
LAST-MODIFIED:20250819T145151Z
UID:1003881348-1758614400-1758733200@secure.northernminer.com
SUMMARY:Rare Earths Mines\, Magnets and Motors 2025 – Toronto
DESCRIPTION:The Rare Earths Mines\, Magnets and Motors conference returns to Toronto in September\, featuring special guest Steve Wozniak\, the legendary tech icon and co-founder of Apple. \nHear about his infamous partnership with Steve Jobs\, his views on innovation and creativity\, and his personal thoughts on the future of technology. \nThe conference will also discuss potential parallels with the tech world that can be drawn in relation to the outlook for robotics\, automation and advanced air mobility. \nThe event will bring together major participants from across the mine-to-OEM supply chain\, with world class speakers\, networking events and actionable insights.
URL:https://secure.northernminer.com/event/rare-earths-mines-magnets-and-motors-2025-toronto/
LOCATION:Ritz-Carlton Toronto\, Toronto\, Canada
CATEGORIES:Conference,Information session,Keynote Address,Networking event
ATTACH;FMTTYPE=image/png:https://secure.northernminer.com/wp-content/uploads/2025/08/Register-Now-Adamas-REM3-2025.png
END:VEVENT
BEGIN:VEVENT
DTSTART;TZID=America/Toronto:20250929T080000
DTEND;TZID=America/Toronto:20250930T170000
DTSTAMP:20260421T020041
CREATED:20250501T214405Z
LAST-MODIFIED:20250709T154459Z
UID:1003878189-1759132800-1759251600@secure.northernminer.com
SUMMARY:Asia Gold Conference and Exhibition - Singapore
DESCRIPTION:The Asia Gold Conference\, the only international conference in Singapore and the Asia Pacific region exclusively focusing on gold\, silver and other precious metals returns in September.  \nThe conference agenda focuses on critical industry issues\, developments and key trends shaping the precious metals industry’s future. Speakers are to provide insights on mining investment trends\, exploration opportunities\, financing models\, ESG\, sustainability and technology innovations. \nAsia Gold Conference is available to qualified investors only.
URL:https://secure.northernminer.com/event/asia-gold-conference-and-exhibition-singapore/
LOCATION:ParkRoyal Collection Marina Bay\, Singapore\, Singapore
CATEGORIES:Conference,Exposition,Keynote Address,Networking event
ATTACH;FMTTYPE=image/png:https://secure.northernminer.com/wp-content/uploads/2025/05/Screenshot-177.png
END:VEVENT
END:VCALENDAR