BEGIN:VCALENDAR
VERSION:2.0
PRODID:-//The Northern Miner - ECPv6.5.0.1//NONSGML v1.0//EN
CALSCALE:GREGORIAN
METHOD:PUBLISH
X-WR-CALNAME:The Northern Miner
X-ORIGINAL-URL:https://secure.northernminer.com
X-WR-CALDESC:Events for The Northern Miner
REFRESH-INTERVAL;VALUE=DURATION:PT1H
X-Robots-Tag:noindex
X-PUBLISHED-TTL:PT1H
BEGIN:VTIMEZONE
TZID:America/Toronto
BEGIN:DAYLIGHT
TZOFFSETFROM:-0500
TZOFFSETTO:-0400
TZNAME:EDT
DTSTART:20230312T070000
END:DAYLIGHT
BEGIN:STANDARD
TZOFFSETFROM:-0400
TZOFFSETTO:-0500
TZNAME:EST
DTSTART:20231105T060000
END:STANDARD
END:VTIMEZONE
BEGIN:VEVENT
DTSTART;TZID=America/Toronto:20231031T080000
DTEND;TZID=America/Toronto:20231102T170000
DTSTAMP:20260424T024217
CREATED:20230613T144218Z
LAST-MODIFIED:20230613T190126Z
UID:1003855906-1698739200-1698944400@secure.northernminer.com
SUMMARY:Mines and Money @ IMARC - Sydney
DESCRIPTION:Mines and Money brings together high-level investors from around the world with senior management from mining exploration and development companies for this year’s event that coincides with Australia’s largest mining and energy event\, the International Mining and Resources Conference (IMARC). \nThe conference will offer opportunities for networking with investors\, junior\, mid-tier and major mining and energy companies\, educators\, innovators\, government officials\, and more. \nWith more than 8\,500 attendees\, this is the ideal opportunity to engage with the mining industry’s biggest players and explore new investment opportunities.
URL:https://secure.northernminer.com/event/mines-and-money-imarc-sydney/
LOCATION:Sydney International Convention and Exhibition Centre\, Sydney\, New South Wales\, Australia
CATEGORIES:Conference,Convention,Exhibition,Forum,Information session,Keynote Address,Networking event
ATTACH;FMTTYPE=image/jpeg:https://secure.northernminer.com/wp-content/uploads/2023/06/68xkiYZ4_400x400.jpeg
END:VEVENT
BEGIN:VEVENT
DTSTART;TZID=America/Toronto:20231101T080000
DTEND;TZID=America/Toronto:20231104T170000
DTSTAMP:20260424T024217
CREATED:20230928T185006Z
LAST-MODIFIED:20230928T185006Z
UID:1003859117-1698825600-1699117200@secure.northernminer.com
SUMMARY:New Orleans Investment Conference 2023
DESCRIPTION:The New Orleans Investment Conference returns in 2023 to bring together investors from across the board for one of the oldest and most respected investment events in the world. First held in 1974\, the conference draws authorities on geopolitics\, economics and investments and its past speakers have represented the highest levels of politics\, business and academia. \nMining investment guru Rick Rule is among speakers representing the resource sector at this year’s conference.
URL:https://secure.northernminer.com/event/new-orleans-investment-conference-2023/
LOCATION:Hilton New Orleans Riverside\, New Orleans\, LA\, United States
CATEGORIES:Conference,Exhibition,Forum,Keynote Address,Networking event
ATTACH;FMTTYPE=image/jpeg:https://secure.northernminer.com/wp-content/uploads/2023/09/download-_2_.jpg
END:VEVENT
BEGIN:VEVENT
DTSTART;TZID=America/Toronto:20231107T080000
DTEND;TZID=America/Toronto:20231108T170000
DTSTAMP:20260424T024217
CREATED:20231010T171900Z
LAST-MODIFIED:20231010T171900Z
UID:1003859442-1699344000-1699462800@secure.northernminer.com
SUMMARY:Red Cloud Fall Mining Showcase - Toronto
DESCRIPTION:Red Cloud Financial Services’ annual in-person conference returns to the Sheraton Center Toronto Hotel. The two-day event will host more than 90 presenting companies covering 10 commodities. \nFive high-profile keynote speakers will be in attendance\, including: \n\nAndrew Miller\, Chief Operating Officer\, Benchmark Mineral Intelligence\nFrank Giustra\, President & CEO\, Fiore Group\nMatt Fernley\, Editor\, Battery Materials Review\nNicolas Carter\, Executive Vice President\, Uranium\, UxC\, LLC\nMichael Gentile\, Founding Partner and Senior Portfolio Manager\, Bastion Asset Management\n\n“We’re excited to be hosting our marquee fall event\, live in Toronto\, involving our favourite names in mining\,” said Bruce Tatters\, CEO\, Red Cloud Securities. “There are plenty of investment opportunities to keep an eye open for – ranging from grass root exploration to junior production. We look forward to hosting investors and our diverse client base.”
URL:https://secure.northernminer.com/event/red-cloud-fall-mining-showcase-toronto/
LOCATION:Sheraton Centre Toronto Hotel\, 123 Queen Street West\, Civic Ballroom\, Toronto\, Ontario\, M5H 2M9\, Canada
CATEGORIES:Conference,Exhibition,Forum,Keynote Address,Networking event
ATTACH;FMTTYPE=image/png:https://secure.northernminer.com/wp-content/uploads/2023/10/Screenshot-1183-1.png
END:VEVENT
BEGIN:VEVENT
DTSTART;TZID=America/Toronto:20231124T080000
DTEND;TZID=America/Toronto:20231125T170000
DTSTAMP:20260424T024217
CREATED:20231006T165050Z
LAST-MODIFIED:20231006T165050Z
UID:1003859345-1700812800-1700931600@secure.northernminer.com
SUMMARY:German Gold Show – Frankfurt\, Germany
DESCRIPTION:The German Gold Show (Deutsche Goldmesse) is Germany’s top investment conference that links European investors with mining companies across various commodities and from exploration to production-stage projects.
URL:https://secure.northernminer.com/event/german-gold-show-frankfurt-germany/
LOCATION:Westin Grand Frankfurt\, Frankfurt\, Germany
CATEGORIES:Conference,Forum,Information session,Keynote Address,Networking event
ATTACH;FMTTYPE=image/jpeg:https://secure.northernminer.com/wp-content/uploads/2023/10/9c35e77cb4d016d05cd09a6f158c.jpg
END:VEVENT
BEGIN:VEVENT
DTSTART;TZID=America/Toronto:20231128T080000
DTEND;TZID=America/Toronto:20231130T170000
DTSTAMP:20260424T024217
CREATED:20231006T193936Z
LAST-MODIFIED:20231006T193936Z
UID:1003859377-1701158400-1701363600@secure.northernminer.com
SUMMARY:Pathways to Net Zero Mining – Toronto
DESCRIPTION:The 12th edition of the Energy and Mines conference is where miners come to benchmark their net zero strategies; network with peers and decarbonization experts\, and hear about the very latest technologies and solutions. Leaders and senior management from the mining\, technology and politics will speak in various forms at the event.
URL:https://secure.northernminer.com/event/pathways-to-net-zero-mining-toronto/
LOCATION:Marriott Downtown at CF Toronto Eaton Centre\, Toronto
CATEGORIES:Conference,Forum,Information session,Keynote Address,Networking event
ATTACH;FMTTYPE=image/png:https://secure.northernminer.com/wp-content/uploads/2023/10/Screenshot-1181.png
END:VEVENT
BEGIN:VEVENT
DTSTART;TZID=America/Toronto:20231129T080000
DTEND;TZID=America/Toronto:20231130T170000
DTSTAMP:20260424T024217
CREATED:20231102T164807Z
LAST-MODIFIED:20231102T164807Z
UID:1003860306-1701244800-1701363600@secure.northernminer.com
SUMMARY:CMP BC/Yukon Conference 2023 - Vancouver
DESCRIPTION:The BC/Yukon chapter of the Canadian Mineral Processors (CMP) returns in November for its Vancouver conference. The CMP is a technical society of the Canadian Institute of Mining\, Metallurgy and Petroleum. \nThis event features presentation of papers\, a keynote presentation and a reception. The conference focuses on operators.
URL:https://secure.northernminer.com/event/cmp-bc-yukon-conference-2023-vancouver/
LOCATION:Sutton Place Hotel\, 845 Burrard Street\, Vancouver\, British Columbia\, Canada
CATEGORIES:Conference,Information session,Keynote Address
ATTACH;FMTTYPE=image/jpeg:https://secure.northernminer.com/wp-content/uploads/2023/11/https___cdn.evbuc_.com_images_612136539_145418759328_1_original.jpg
END:VEVENT
END:VCALENDAR