BEGIN:VCALENDAR
VERSION:2.0
PRODID:-//The Northern Miner - ECPv6.5.0.1//NONSGML v1.0//EN
CALSCALE:GREGORIAN
METHOD:PUBLISH
X-ORIGINAL-URL:https://secure.northernminer.com
X-WR-CALDESC:Events for The Northern Miner
REFRESH-INTERVAL;VALUE=DURATION:PT1H
X-Robots-Tag:noindex
X-PUBLISHED-TTL:PT1H
BEGIN:VTIMEZONE
TZID:America/Toronto
BEGIN:DAYLIGHT
TZOFFSETFROM:-0500
TZOFFSETTO:-0400
TZNAME:EDT
DTSTART:20250309T070000
END:DAYLIGHT
BEGIN:STANDARD
TZOFFSETFROM:-0400
TZOFFSETTO:-0500
TZNAME:EST
DTSTART:20251102T060000
END:STANDARD
END:VTIMEZONE
BEGIN:VEVENT
DTSTART;TZID=America/Toronto:20251014T080000
DTEND;TZID=America/Toronto:20251016T170000
DTSTAMP:20260424T030418
CREATED:20250612T220747Z
LAST-MODIFIED:20250612T220747Z
UID:1003879582-1760428800-1760634000@secure.northernminer.com
SUMMARY:Saudi International Iron & Steel Conference - Riyadh
DESCRIPTION:The third International Saudi Iron and Steel Conference returns in October to offer networking opportunities with thousands of participants from more than 50 countries. Attendees will have the chance to build strategic partnerships\, explore collaborative ventures\, and expand their business networks.
URL:https://secure.northernminer.com/event/saudi-international-iron-steel-conference-riyadh/
LOCATION:The Arena Riyadh Venue\, Riyadh\, Saudi Arabia
CATEGORIES:Conference,Convention,Networking event
ATTACH;FMTTYPE=image/png:https://secure.northernminer.com/wp-content/uploads/2025/06/73shm7vd.png
END:VEVENT
END:VCALENDAR