BEGIN:VCALENDAR
VERSION:2.0
PRODID:-//The Northern Miner - ECPv6.5.0.1//NONSGML v1.0//EN
CALSCALE:GREGORIAN
METHOD:PUBLISH
X-ORIGINAL-URL:https://secure.northernminer.com
X-WR-CALDESC:Events for The Northern Miner
REFRESH-INTERVAL;VALUE=DURATION:PT1H
X-Robots-Tag:noindex
X-PUBLISHED-TTL:PT1H
BEGIN:VTIMEZONE
TZID:America/Toronto
BEGIN:DAYLIGHT
TZOFFSETFROM:-0500
TZOFFSETTO:-0400
TZNAME:EDT
DTSTART:20250309T070000
END:DAYLIGHT
BEGIN:STANDARD
TZOFFSETFROM:-0400
TZOFFSETTO:-0500
TZNAME:EST
DTSTART:20251102T060000
END:STANDARD
END:VTIMEZONE
BEGIN:VEVENT
DTSTART;TZID=America/Toronto:20251103T080000
DTEND;TZID=America/Toronto:20251104T170000
DTSTAMP:20260423T190606
CREATED:20251015T151202Z
LAST-MODIFIED:20251015T151202Z
UID:1003883644-1762156800-1762275600@secure.northernminer.com
SUMMARY:Central Canada Mineral Exploration Convention - Winnipeg\, Man.
DESCRIPTION:One of central Canada’s largest mining events returns after last year’s convention sold-out and featured 16 technical sessions with 45 industry experts and hosted 800 participants – a record number of sponsors\, exhibitors and delegates.
URL:https://secure.northernminer.com/event/central-canada-mineral-exploration-convention-winnipeg-man/
LOCATION:Victoria Inn Hotel & Convention Centre\, Winnipeg\, Manitoba\, Canada
CATEGORIES:Convention,Information session,Networking event,Presentation
ATTACH;FMTTYPE=image/png:https://secure.northernminer.com/wp-content/uploads/2025/10/Screenshot-22.png
END:VEVENT
BEGIN:VEVENT
DTSTART;TZID=America/Toronto:20251103T080000
DTEND;TZID=America/Toronto:20251106T170000
DTSTAMP:20260423T190606
CREATED:20250910T212602Z
LAST-MODIFIED:20250910T212602Z
UID:1003882458-1762156800-1762448400@secure.northernminer.com
SUMMARY:2025 Alaska Miners Association Convention and Trade Show - Anchorage
DESCRIPTION:The annual convention and trade show\, expected to draw more than 1\,000 attendees returns to Anchorage in November. \nThe event will host networking events\, the state’s largest mining tradeshow\, representatives from all operating mines and potential mining development projects in Alaska\, educational short courses and technical sessions.
URL:https://secure.northernminer.com/event/2025-alaska-miners-association-convention-and-trade-show-anchorage/
LOCATION:Dena’ina Civic and Convention Center\, Anchorage\, AK\, United States
CATEGORIES:Conference,Convention,Information session,Networking event,Presentation,Trade Show
ATTACH;FMTTYPE=image/png:https://secure.northernminer.com/wp-content/uploads/2025/09/Screenshot-235.png
END:VEVENT
BEGIN:VEVENT
DTSTART;TZID=America/Toronto:20251112T080000
DTEND;TZID=America/Toronto:20251113T170000
DTSTAMP:20260423T190606
CREATED:20250501T212256Z
LAST-MODIFIED:20250501T212256Z
UID:1003878182-1762934400-1763053200@secure.northernminer.com
SUMMARY:Mining & Critical Minerals Canada Conference and Exhibition - Toronto
DESCRIPTION:The Mining & Critical Minerals Canada Conference & Exhibition will convene in Toronto in November for discussions on investment trends\, exploration opportunities\, ESG\, sustainability goals\, and commodities forecasts. More than 200 senior level executives from international organizations are expected to attend\, as well as government representatives and stakeholders from more than 20 countries.
URL:https://secure.northernminer.com/event/mining-critical-minerals-canada-conference-and-exhibition-toronto/
LOCATION:DoubleTree by Hilton Downtown Toronto\, Toronto\, Canada
CATEGORIES:Conference,Convention,Exposition,Networking event
ATTACH;FMTTYPE=image/png:https://secure.northernminer.com/wp-content/uploads/2025/05/Screenshot-175.png
END:VEVENT
BEGIN:VEVENT
DTSTART;TZID=America/Toronto:20251116T080000
DTEND;TZID=America/Toronto:20251120T170000
DTSTAMP:20260423T190606
CREATED:20250808T172749Z
LAST-MODIFIED:20250808T172749Z
UID:1003881367-1763280000-1763658000@secure.northernminer.com
SUMMARY:Extraction 2025 Meeting & Exhibition – Phoenix\, Ariz.
DESCRIPTION:Members of the global extractive metallurgy community will meet for several days at the Extraction 2025 conference for networking and learning on a broad range of topics. The conference is co-located with the 6th International Symposium on Nickel and Cobalt and the 12th International Copper Conference.
URL:https://secure.northernminer.com/event/extraction-2025-meeting-exhibition-phoenix-ariz/
LOCATION:Sheraton Grand at Wild Horse Pass\, Phoenix\, AZ\, United States
CATEGORIES:Conference,Convention,Exhibition,Networking event
ATTACH;FMTTYPE=image/png:https://secure.northernminer.com/wp-content/uploads/2025/08/Extraction2025-WebPromo4.png
END:VEVENT
BEGIN:VEVENT
DTSTART;TZID=America/Toronto:20251120T080000
DTEND;TZID=America/Toronto:20251121T170000
DTSTAMP:20260423T190606
CREATED:20250501T213311Z
LAST-MODIFIED:20250501T213311Z
UID:1003878186-1763625600-1763744400@secure.northernminer.com
SUMMARY:MiningTech North America Conference and Expo - Vancouver
DESCRIPTION:MiningTech North America Conference & Expo comes to Vancouver in November for two days of discussions on technology\, innovation\, sustainability and ESG priorities. More 700 senior level executives from international organizations are expected to attend\, as well as government representatives and stakeholders from more than 20 countries.
URL:https://secure.northernminer.com/event/miningtech-north-america-conference-and-expo-vancouver/
LOCATION:Vancouver Convention Centre\, Vancouver\, British Columbia\, Canada
CATEGORIES:Conference,Convention,Exhibition,Networking event
ATTACH;FMTTYPE=image/png:https://secure.northernminer.com/wp-content/uploads/2025/05/Screenshot-176.png
END:VEVENT
BEGIN:VEVENT
DTSTART;TZID=America/Toronto:20251124T080000
DTEND;TZID=America/Toronto:20251126T170000
DTSTAMP:20260423T190606
CREATED:20251120T222620Z
LAST-MODIFIED:20251120T222620Z
UID:1003884839-1763971200-1764176400@secure.northernminer.com
SUMMARY:Morocco International Mining Congress & Exhibition - Marrakech\, Morocco
DESCRIPTION:The IMC Morocco Mining Conference will bring together government leaders\, mining companies\, investors\, and technology providers to explore the future of Morocco’s mining industry. \nHosted in a key North African mining hub\, the event focuses on investment opportunities\, regulatory updates\, exploration potential\, and emerging technologies across commodities such as phosphate\, copper\, gold\, and critical minerals. \nDelegates can expect high-level keynote sessions\, technical presentations\, project showcases\, and B2B matchmaking. The conference also highlights Morocco’s strategy for sustainable development and value-added processing.
URL:https://secure.northernminer.com/event/morocco-international-mining-congress-exhibition-marrakech-morocco/
LOCATION:Pickalbatros Hotel du Golf\, Marrakech\, Morocco
CATEGORIES:Conference,Convention,Networking event,Presentation
ATTACH;FMTTYPE=image/png:https://secure.northernminer.com/wp-content/uploads/2025/11/Copy-of-CIM-MAROC-1-e1723035391593.png
END:VEVENT
END:VCALENDAR