BEGIN:VCALENDAR
VERSION:2.0
PRODID:-//The Northern Miner - ECPv6.5.0.1//NONSGML v1.0//EN
CALSCALE:GREGORIAN
METHOD:PUBLISH
X-ORIGINAL-URL:https://secure.northernminer.com
X-WR-CALDESC:Events for The Northern Miner
REFRESH-INTERVAL;VALUE=DURATION:PT1H
X-Robots-Tag:noindex
X-PUBLISHED-TTL:PT1H
BEGIN:VTIMEZONE
TZID:America/Toronto
BEGIN:DAYLIGHT
TZOFFSETFROM:-0500
TZOFFSETTO:-0400
TZNAME:EDT
DTSTART:20260308T070000
END:DAYLIGHT
BEGIN:STANDARD
TZOFFSETFROM:-0400
TZOFFSETTO:-0500
TZNAME:EST
DTSTART:20261101T060000
END:STANDARD
END:VTIMEZONE
BEGIN:VEVENT
DTSTART;TZID=America/Toronto:20260308T080000
DTEND;TZID=America/Toronto:20260310T170000
DTSTAMP:20260419T164855
CREATED:20251120T204951Z
LAST-MODIFIED:20251120T204951Z
UID:1003884800-1772956800-1773162000@secure.northernminer.com
SUMMARY:Mines and Money - Miami\, Fla.
DESCRIPTION:Mines and Money comes to Miami in March to discuss trends in the industry and at the policy level affecting the United States. Explore and enhance knowledge on domestic production\, the competitive Chinese mineral monopoly and problems in supply chains for the technology\, energy\, and defence sectors.
URL:https://secure.northernminer.com/event/mines-and-money-miami-fla/
LOCATION:James L. Knight Center\, Miami\, FL\, United States
CATEGORIES:Conference,Convention,Keynote Address
ATTACH;FMTTYPE=image/jpeg:https://secure.northernminer.com/wp-content/uploads/2025/11/channels4_banner.jpg
END:VEVENT
BEGIN:VEVENT
DTSTART;TZID=America/Toronto:20260310T080000
DTEND;TZID=America/Toronto:20260311T170000
DTSTAMP:20260419T164855
CREATED:20260206T163512Z
LAST-MODIFIED:20260206T163512Z
UID:1003887471-1773129600-1773248400@secure.northernminer.com
SUMMARY:MiningNews Select - Sydney
DESCRIPTION:MiningNews Select is to feature some of the best ‘under-the-radar’ resources companies that are focused on critical minerals and gold. \nResource investors can connect directly with mining companies and explore their projects for potential investment\, with more than 400 investor meetings planned between 250 private and institutional investors across 20 mining projects.
URL:https://secure.northernminer.com/event/miningnews-select-sydney/
LOCATION:Sydney Masonic Centre\, Sydney\, Australia
CATEGORIES:Conference,Meeting,Networking event
ATTACH;FMTTYPE=image/png:https://secure.northernminer.com/wp-content/uploads/2026/02/Screenshot-171.png
END:VEVENT
END:VCALENDAR